BEGIN:VCALENDAR
VERSION:2.0
PRODID:-//ChamberMaster//Event Calendar 2.0//EN
METHOD:PUBLISH
X-PUBLISHED-TTL:P3D
REFRESH-INTERVAL:P3D
CALSCALE:GREGORIAN
BEGIN:VEVENT
DTSTART:20160718T220000Z
DTEND:20160719T003000Z
X-MICROSOFT-CDO-ALLDAYEVENT:FALSE
SUMMARY:2nd Annual Tapping Into Possibilities
DESCRIPTION:Rise\, Inc.\, a private nonprofit agency serving adults with disabilities for 45 years will be holding their 2nd Annual Tapping Into Possibilities event. \n\nThe event will feature live music by Battlelegs\, great raffle packages\, and fabulous appetizers from area delis and restaurants\n\n\n\nThe fundraiser's purpose is to provide vocational and housing programs for adult with disabilities
X-ALT-DESC;FMTTYPE=text/html:<span style="font-family:georgia\,serif\;">Rise\, Inc.\, a private nonprofit agency serving adults with disabilities for 45 years will be holding their 2nd Annual Tapping Into Possibilities event.&nbsp\;<br />\nThe event will feature live music by Battlelegs\, great raffle packages\, and fabulous appetizers from area delis and restaurants</span><br />\n<br />\n<span style="font-family:georgia\,serif\;">The fundraiser&#39\;s purpose is to provide vocational and housing programs for adult with disabilities</span><br />\n&nbsp\;
LOCATION:Bauhaus Brew Labs\, 1315 Tyler St. N.E.\, Minneapolis 55413
UID:e.380.168441
SEQUENCE:3
DTSTAMP:20260422T101606Z
URL:http://members.metronorthchamber.org/events/details/2nd-annual-tapping-into-possibilities-07-18-2016-168441
END:VEVENT

END:VCALENDAR
