BEGIN:VCALENDAR
VERSION:2.0
PRODID:-//ChamberMaster//Event Calendar 2.0//EN
METHOD:PUBLISH
X-PUBLISHED-TTL:P3D
REFRESH-INTERVAL:P3D
CALSCALE:GREGORIAN
BEGIN:VEVENT
DTSTART:20160519T163000Z
DTEND:20160519T230000Z
X-MICROSOFT-CDO-ALLDAYEVENT:FALSE
SUMMARY:28th Annual Golf Tournament
DESCRIPTION:28th Annual Golf tournament at Majestic Oaks Golf Club\n\n\n\nLimited space remains for this much anticipated golf and networking event. NEW IN 2016: Lunch is included for ALL golfers and sponsors. CONTACT US ASAP.
X-ALT-DESC;FMTTYPE=text/html:28th Annual Golf tournament at Majestic Oaks Golf Club<br />\n<br />\nLimited space remains for this&nbsp\;much anticipated golf and networking event. <strong>NEW IN 2016: Lunch</strong>&nbsp\;is included for ALL golfers and sponsors. CONTACT US ASAP.
LOCATION:Majestic Oaks Golf Club 701 Bunker Lake Boulevard Ham Lake 55304
UID:e.380.160913
SEQUENCE:3
DTSTAMP:20260422T120357Z
URL:http://members.metronorthchamber.org/events/details/28th-annual-golf-tournament-05-19-2016-160913
END:VEVENT

END:VCALENDAR
