BEGIN:VCALENDAR
VERSION:2.0
PRODID:-//ChamberMaster//Event Calendar 2.0//EN
METHOD:PUBLISH
X-PUBLISHED-TTL:P3D
REFRESH-INTERVAL:P3D
CALSCALE:GREGORIAN
BEGIN:VEVENT
DTSTART:20120523T173000Z
DTEND:20120524T000000Z
X-MICROSOFT-CDO-ALLDAYEVENT:FALSE
SUMMARY:24th Annual Golf Tournament
DESCRIPTION:Join approximately 144 golfers & a plethora of hole sponsors for our 24th Annual Tournament!\n\n\n\nParticipating in the MetroNorth Chamber Golf Tournament is a great way to promote your business be it a hole sponsorship or a fun filled day on the course! This year's tournament will be held at The Refuge Golf Club on May 23rd.\n\n\n	\n\n	If you are a golfer\, then grab some co-workers and put together a foursome. Don't have a foursome? That's okay. Sign-up and we will pair you with a group\; there is nothing better than networking over a game of golf!\n\n	\n\n	\n		There are still hole sponsorships available\, which is a great way to be in direct contact with 144 business leaders while enjoying a lovely day in the sun. You can play a 'game' at the hole while getting leads - not a bad afternoon! \n	\n		 \n	Download a copy of the brochure here.\n\n	\n\n	**ATTENTION GOLFERS!**\n\n	\n\n	Please plan to arrive early on May 23rd before the Golf Tournament to participate in a FREE PRE-EVENT GOLF CLINIC\, 11:00 AM   11:45 AM.  The Refuge Golf Club has extended another very generous "Added Value" to the MetroNorth Chamber of Commerce 24th Annual Golf Tournament this year by coordinating a special golf clinic for all MetroNorth golfers with local Certified Golf Instructor Dave Sanchez\, prior to the tournament.  Dave is a long time golfer and instructor in the golf community. Click here for more information.
X-ALT-DESC;FMTTYPE=text/html:<br />\n<span style="color: #000080"><span style="font-size: 11px"><span style="font-family: tahoma">Join approximately 144 golfers &amp\; a plethora of hole sponsors for our 24th Annual Tournament!<br />\n<br />\nParticipating in the MetroNorth Chamber Golf Tournament is a great way to promote your business be it a hole sponsorship or a fun filled day on the course! <span>This year&#39\;s tournament will be held at The Refuge Golf Club on May 23rd.</span></span></span></span><br />\n<div>\n	<br />\n	<span style="color: #000080"><span style="font-size: 11px"><span style="font-family: tahoma"><span><span><span>If you are a golfer\, then grab some co-workers and put together a foursome.</span> <span>Don&#39\;t have a foursome? That&#39\;s okay. Sign-up and we will pair you with a group\; there is nothing better than networking over a game of golf!</span></span></span></span></span></span><br />\n	<br />\n	<p style="margin-top: 0px\; margin-bottom: 0px">\n		<span style="color: #000080"><span style="font-size: 11px"><span style="font-family: tahoma"><span><span><span>There are still hole sponsorships available<span>\, which&nbsp\;</span>is a great&nbsp\;<span>way </span>to be in direct contact with 144 business leaders while enjoying a lovely day in the sun<span>.&nbsp\;You can play a &#39\;game&#39\; at the hole while getting leads - not a bad afternoon!&nbsp\;</span></span></span></span></span></span></span></p>\n	<p style="margin-top: 0px\; margin-bottom: 0px">\n		<span style="color: #000080"><span style="font-size: 11px"><span style="font-family: tahoma"><span><span><span>&nbsp\;</span></span></span></span></span></span></p>\n	<span style="color: #000080"><span style="font-size: 11px"><span style="font-family: tahoma"><span><span>Download a copy of the brochure </span></span></span></span></span><span style="font-size: 11px"><span style="font-family: tahoma"><span><a href="http://cloud.chambermaster.com/userfiles/UserFiles/chambers/380/File/MetroNorth2012GolfBrochure_2.16.12.pdf"><span style="color: #000080">here</span></a></span></span></span><span style="color: #000080"><span style="font-size: 11px"><span style="font-family: tahoma"><span><span>.</span></span></span></span></span><br />\n	<br />\n	<span style="color: #000080"><span style="font-size: 11px"><span style="font-family: tahoma"><strong>**ATTENTION GOLFERS!**</strong><br />\n	<br />\n	Please plan to arrive early on May 23rd before the Golf Tournament to participate in a <strong>FREE PRE-EVENT GOLF CLINIC</strong>\, 11:00 AM &ndash\; 11:45 AM.&nbsp\; The Refuge Golf Club has extended another very generous &ldquo\;Added Value&rdquo\; to the MetroNorth Chamber of Commerce 24th Annual Golf Tournament this year by coordinating a special golf clinic for all MetroNorth golfers with local Certified Golf Instructor Dave Sanchez\, prior to the tournament.&nbsp\; Dave is a long time golfer and instructor in the golf community. Click <a href="http://cloud.chambermaster.com/userfiles/UserFiles/chambers/380/File/Copyforclinic1.pdf">here</a> for more information.</span></span></span><br />\n	<br />\n	<br />\n	&nbsp\;</div>\n
LOCATION:The Refuge Golf Club\, Oak Grove MN
UID:e.380.143473
SEQUENCE:3
DTSTAMP:20260425T174616Z
URL:http://members.metronorthchamber.org/events/details/24th-annual-golf-tournament-05-23-2012-143473
END:VEVENT

END:VCALENDAR
