BEGIN:VCALENDAR
VERSION:2.0
PRODID:-//ChamberMaster//Event Calendar 2.0//EN
METHOD:PUBLISH
X-PUBLISHED-TTL:P3D
REFRESH-INTERVAL:P3D
CALSCALE:GREGORIAN
BEGIN:VEVENT
DTSTART:20180517T130000Z
DTEND:20180517T170000Z
X-MICROSOFT-CDO-ALLDAYEVENT:FALSE
SUMMARY:2018 Tax Law Seminar
DESCRIPTION:Please join us to learn how you can begin taking advantage of the opportunities available to you and your business under this new tax plan!\n\nPresented by:\n\nBertolas & Pekula\, LLC \n\nCertified Public Accountants\n\nSpeaker: Derek Bertolas\, CPA\, CMA\, CFM\n\nWith special guest speakers:\n\nKelli Hoskins\, President\, Imagine Business Coaching\, Inc.\n\nDan Berckes\, President\, Freedom Strategy Group\, LLC\n\nSign up before May 10th and receive the Registration fee for $25 when using promo code: TAX\n\nRegistration fee is $49 after May 10th!\n\nCheck-in begins at 7:45am.\n\nPastries\, fruit\, coffee & juice will also be served.
X-ALT-DESC;FMTTYPE=text/html:<p style="margin: 0px\; padding: 0px\; color: rgb(102\, 106\, 115)\; font-family: &quot\;Benton Sans&quot\;\, -apple-system\, BlinkMacSystemFont\, Roboto\, &quot\;Helvetica Neue&quot\;\, Helvetica\, Tahoma\, Arial\, sans-serif\; font-size: 15px\; letter-spacing: 0.5px\; background-color: rgb(255\, 255\, 255)\;"><span style="font-weight: 700\; padding-top: 0px\;">Please join us to learn how you can begin taking advantage of the opportunities available to you and your business under this new tax plan!</span></p>\n\n<p style="margin: 0px\; padding: 10px 0px 0px\; color: rgb(102\, 106\, 115)\; font-family: &quot\;Benton Sans&quot\;\, -apple-system\, BlinkMacSystemFont\, Roboto\, &quot\;Helvetica Neue&quot\;\, Helvetica\, Tahoma\, Arial\, sans-serif\; font-size: 15px\; letter-spacing: 0.5px\; background-color: rgb(255\, 255\, 255)\;">Presented by:</p>\n\n<p style="margin: 0px\; padding: 10px 0px 0px\; color: rgb(102\, 106\, 115)\; font-family: &quot\;Benton Sans&quot\;\, -apple-system\, BlinkMacSystemFont\, Roboto\, &quot\;Helvetica Neue&quot\;\, Helvetica\, Tahoma\, Arial\, sans-serif\; font-size: 15px\; letter-spacing: 0.5px\; background-color: rgb(255\, 255\, 255)\;"><span style="font-weight: 700\; padding-top: 0px\;">Bertolas &amp\; Pekula\, LLC&nbsp\;</span><br />\nCertified Public Accountants</p>\n\n<p style="margin: 0px\; padding: 10px 0px 0px\; color: rgb(102\, 106\, 115)\; font-family: &quot\;Benton Sans&quot\;\, -apple-system\, BlinkMacSystemFont\, Roboto\, &quot\;Helvetica Neue&quot\;\, Helvetica\, Tahoma\, Arial\, sans-serif\; font-size: 15px\; letter-spacing: 0.5px\; background-color: rgb(255\, 255\, 255)\;"><span style="font-weight: 700\; padding-top: 0px\;">Speaker: Derek Bertolas\, CPA\, CMA\, CFM</span></p>\n\n<p style="margin: 0px\; padding: 10px 0px 0px\; color: rgb(102\, 106\, 115)\; font-family: &quot\;Benton Sans&quot\;\, -apple-system\, BlinkMacSystemFont\, Roboto\, &quot\;Helvetica Neue&quot\;\, Helvetica\, Tahoma\, Arial\, sans-serif\; font-size: 15px\; letter-spacing: 0.5px\; background-color: rgb(255\, 255\, 255)\;">With special guest speakers:<br style="padding-top: 0px\;" />\nKelli Hoskins\, President\, Imagine Business Coaching\, Inc.<br />\nDan Berckes\, President\, Freedom Strategy Group\, LLC</p>\n\n<p style="margin: 0px\; padding: 10px 0px 0px\; color: rgb(102\, 106\, 115)\; font-family: &quot\;Benton Sans&quot\;\, -apple-system\, BlinkMacSystemFont\, Roboto\, &quot\;Helvetica Neue&quot\;\, Helvetica\, Tahoma\, Arial\, sans-serif\; font-size: 15px\; letter-spacing: 0.5px\; background-color: rgb(255\, 255\, 255)\;"><span style="font-weight: 700\; padding-top: 0px\;">Sign up before May 10th and receive the Registration fee for $25&nbsp\;</span><span style="font-weight: 700\;">when using promo code: TAX<br style="padding-top: 0px\;" />\nRegistration fee is $49 after May 10th!</span></p>\n\n<p style="margin: 0px\; padding: 10px 0px 0px\; color: rgb(102\, 106\, 115)\; font-family: &quot\;Benton Sans&quot\;\, -apple-system\, BlinkMacSystemFont\, Roboto\, &quot\;Helvetica Neue&quot\;\, Helvetica\, Tahoma\, Arial\, sans-serif\; font-size: 15px\; letter-spacing: 0.5px\; background-color: rgb(255\, 255\, 255)\;">Check-in begins at 7:45am.</p>\n\n<p style="margin: 0px\; padding: 10px 0px 0px\; color: rgb(102\, 106\, 115)\; font-family: &quot\;Benton Sans&quot\;\, -apple-system\, BlinkMacSystemFont\, Roboto\, &quot\;Helvetica Neue&quot\;\, Helvetica\, Tahoma\, Arial\, sans-serif\; font-size: 15px\; letter-spacing: 0.5px\; background-color: rgb(255\, 255\, 255)\;">Pastries\, fruit\, coffee &amp\; juice will also be served.</p>\n
LOCATION:Greenhaven Golf Course 2800 Greenhaven Rd Anoka\, MN 55303
UID:e.380.184861
SEQUENCE:3
DTSTAMP:20260420T213132Z
URL:http://members.metronorthchamber.org/events/details/2018-tax-law-seminar-184861
END:VEVENT

END:VCALENDAR
