BEGIN:VCALENDAR
VERSION:2.0
PRODID:-//ChamberMaster//Event Calendar 2.0//EN
METHOD:PUBLISH
X-PUBLISHED-TTL:P3D
REFRESH-INTERVAL:P3D
CALSCALE:GREGORIAN
BEGIN:VEVENT
DTSTART:20190318T163000Z
DTEND:20190318T181500Z
X-MICROSOFT-CDO-ALLDAYEVENT:FALSE
SUMMARY:2018 Excellence in Business Awards
DESCRIPTION:The MetroNorth Chamber of Commerce annually recognizes exemplary chamber businesses for their performance\, innovation and community commitment. On March 18\, we will celebrate your 2018 Excellence in Business Awards winners in the micro\, small\, business and not-for-profit categories. This is a prestigious honor which showcases the best of the best of our membership.\n\n \n\nOur lunchoen keynote will be Erik Therwanger\, national speaker on excellence. Erik is the founder of Think GREAT and draws from his experiences as a U.S. Marine\, executive business leader\, sales professional\, and entrepreneur to help organizations achieve new levels of success. He uniquely combines leadership development\, team building\, sales training\, and goal-setting into strategies and techniques that empower team members and leaders to exceed expectations.\n\n\nYour 2018 Winners are: \n\nNot for Profit: HOPE 4 Youth \n\nMicro: Instrumental Research \n\nSmall: QC Dance \n\nLarge: Infinite Campus
X-ALT-DESC;FMTTYPE=text/html:<p><span style="font-family:arial\;"><span style="color:#000000\;">The MetroNorth Chamber of Commerce annually recognizes exemplary chamber businesses for their performance\, innovation and community commitment. On March 18\, we will celebrate your 2018 Excellence in Business Awards winners in the micro\, small\, business and not-for-profit categories. This is a prestigious&nbsp\;honor which showcases the best of the best of our membership.<br />\n&nbsp\;<br />\nOur lunchoen keynote will be Erik Therwanger\, national speaker on excellence. Erik is the founder of Think GREAT and draws from his experiences as a U.S. Marine\, executive business leader\, sales professional\, and entrepreneur to help organizations achieve new levels of success. He uniquely combines leadership development\, team building\, sales training\, and goal-setting into strategies and techniques that empower team members and leaders to exceed expectations.</span></span></p>\n<br />\n<span style="color:#000000\;"><span style="font-size:14px\;"><span style="font-family:arial\;">Your 2018 Winners are:&nbsp\;</span></span></span>\n\n<p style="margin: 0px\;"><span style="font-size:14px\;"><span style="margin: 0px\; color: black\; font-family: ">Not for Profit: <b>HOPE 4 Youth</b> </span></span></p>\n\n<p style="margin: 0px\;"><span style="font-size:14px\;"><span style="margin: 0px\; color: black\; font-family: ">Micro: <b>Instrumental Research</b> </span></span></p>\n\n<p style="margin: 0px\;"><span style="font-size:14px\;"><span style="margin: 0px\; color: black\; font-family: ">Small: <b>QC Dance</b> </span></span></p>\n\n<p style="margin: 0px\;"><span style="font-size:14px\;"><span style="margin: 0px\; color: black\; font-family: ">Large: <b>Infinite Campus</b></span></span></p>\n
LOCATION:Bunker Hills Event Center 12800 Bunker Prairie Road Coon Rapids 55448
UID:e.380.188440
SEQUENCE:3
DTSTAMP:20260420T073918Z
URL:http://members.metronorthchamber.org/events/details/2018-excellence-in-business-awards-188440
END:VEVENT

END:VCALENDAR
