BEGIN:VCALENDAR
VERSION:2.0
PRODID:-//ChamberMaster//Event Calendar 2.0//EN
METHOD:PUBLISH
X-PUBLISHED-TTL:P3D
REFRESH-INTERVAL:P3D
CALSCALE:GREGORIAN
BEGIN:VEVENT
DTSTART:20170127T133000Z
DTEND:20170127T150000Z
X-MICROSOFT-CDO-ALLDAYEVENT:FALSE
SUMMARY:2017 Legislative Reception
DESCRIPTION:Our Annual Legislative Reception is an excellent opportunity to talk to elected officials about local\, state and federal issues affecting businesses. Take advantage of this event and make connections with these leaders.\n\n\n\nThere is no investment for MetroNorth Chamber members and $20 for not-yet-members. (SPAAR members\, call us at 763-783-3553 to register.) A light breakfast will be served.
X-ALT-DESC;FMTTYPE=text/html:<span style="color: rgb(51\, 51\, 51)\; font-family: sans-serif\, Arial\, Verdana\, &quot\;Trebuchet MS&quot\;\; font-size: 13px\; background-color: rgb(255\, 255\, 255)\;">Our Annual Legislative Reception is an excellent opportunity to talk to elected officials about local\, state and federal issues affecting businesses. Take advantage of this event and make connections with these leaders.<br />\n<br />\nThere is no investment for&nbsp\;</span>MetroNorth<span style="color: rgb(51\, 51\, 51)\; font-family: sans-serif\, Arial\, Verdana\, &quot\;Trebuchet MS&quot\;\; font-size: 13px\; background-color: rgb(255\, 255\, 255)\;">&nbsp\;Chamber members and $20 for not-yet-members. (</span>SPAAR<span style="color: rgb(51\, 51\, 51)\; font-family: sans-serif\, Arial\, Verdana\, &quot\;Trebuchet MS&quot\;\; font-size: 13px\; background-color: rgb(255\, 255\, 255)\;">&nbsp\;members\, call us at 763-783-3553 to register.)&nbsp\;A light breakfast will be served.</span>
LOCATION:Courtyards of Andover 13545 Martin Street NW Andover 55304
UID:e.380.170848
SEQUENCE:3
DTSTAMP:20260421T220730Z
URL:http://members.metronorthchamber.org/events/details/2017-legislative-reception-170848
END:VEVENT

END:VCALENDAR
