BEGIN:VCALENDAR
VERSION:2.0
PRODID:-//ChamberMaster//Event Calendar 2.0//EN
METHOD:PUBLISH
X-PUBLISHED-TTL:P3D
REFRESH-INTERVAL:P3D
CALSCALE:GREGORIAN
BEGIN:VEVENT
DTSTART;VALUE=DATE:20160401
DTEND;VALUE=DATE:20160404
TRANSP:TRANSPARENT
X-MICROSOFT-CDO-ALLDAYEVENT:TRUE
SUMMARY:2016 Shooter Show - Bill's Gun Shop & Range
DESCRIPTION:Less than 24-hours away! ...Get ready for Bill's Gun Shop & Range Robbinsdale April 1-3!\n\nSilent Auctions\, Drawings and Raffles benefitting out charities!\n\nMeet the MANUFACTURERS! Try their products on the Range for FREE!* *with purchase of ammo\n\n4/1 - 10am to 8pm\n\n4/2 - 10am to 8pm\n\n4/3 - 10am to 5pm\n\nbillsgs.com/events\n\nwww.billsgs.com
X-ALT-DESC;FMTTYPE=text/html:<p>Less than 24-hours away! ...Get ready for <a class="profileLink" href="https://www.facebook.com/BillsGS/">Bill&#39\;s Gun Shop &amp\; Range Robbinsdale</a> April 1-3!</p>\n\n<p>Silent Auctions\, Drawings and Raffles benefitting out charities!<br />\nMeet the MANUFACTURERS! Try their products on the Range for FREE!* *with purchase of ammo</p>\n\n<p>4/1 - 10am to 8pm<br />\n4/2 - 10am to 8pm<br />\n4/3 - 10am to 5pm</p>\n\n<p><a href="http://billsgs.com/events" rel="nofollow" target="_blank">billsgs.com/events</a></p>\n\n<p><a href="http://www.billsgs.com/" rel="nofollow" target="_blank">www.billsgs.com</a></p>\n
LOCATION:4080 W Broadway Avenue Robbinsdale\, MN
UID:e.380.167386
SEQUENCE:3
DTSTAMP:20260422T133318Z
URL:http://members.metronorthchamber.org/events/details/2016-shooter-show-bill-s-gun-shop-range-04-01-2016-167386
END:VEVENT

END:VCALENDAR
