BEGIN:VCALENDAR
VERSION:2.0
PRODID:-//ChamberMaster//Event Calendar 2.0//EN
METHOD:PUBLISH
X-PUBLISHED-TTL:P3D
REFRESH-INTERVAL:P3D
CALSCALE:GREGORIAN
BEGIN:VEVENT
DTSTART:20160526T130000Z
DTEND:20160526T141500Z
X-MICROSOFT-CDO-ALLDAYEVENT:FALSE
SUMMARY:2016 Session Wrap Up
DESCRIPTION:Hear from a panel of north metro legislators as to what happened during the 2016 Legislative Session.
X-ALT-DESC;FMTTYPE=text/html:Hear from a panel of north metro legislators as to what happened during the 2016 Legislative Session.
LOCATION:Rasmussen College 3629 95th Ave NE Blaine\, MN
UID:e.380.163803
SEQUENCE:3
DTSTAMP:20260422T132108Z
URL:http://members.metronorthchamber.org/events/details/2016-session-wrap-up-05-26-2016-163803
END:VEVENT

END:VCALENDAR
