BEGIN:VCALENDAR
VERSION:2.0
PRODID:-//ChamberMaster//Event Calendar 2.0//EN
METHOD:PUBLISH
X-PUBLISHED-TTL:P3D
REFRESH-INTERVAL:P3D
CALSCALE:GREGORIAN
BEGIN:VEVENT
DTSTART:20160120T140000Z
DTEND:20160120T150000Z
X-MICROSOFT-CDO-ALLDAYEVENT:FALSE
SUMMARY:2016 Legislative Reception
DESCRIPTION:Our Annual Legislative Reception is an excellent opportunity to talk to elected officials about local\, state and federal issues affecting businesses. Take advantage of this event and make connections with these leaders.\n\n\n\nThere is no investment for MetroNorth Chamber members and $20 for not-yet-members. (SPAAR members\, call us at 763-783-3553 to register.) A light breakfast will be served.
X-ALT-DESC;FMTTYPE=text/html:Our Annual Legislative Reception is an excellent opportunity to talk to elected officials about local\, state and federal issues affecting businesses. Take advantage of this event and make connections with these leaders.<br />\n<br />\nThere is no investment for MetroNorth Chamber members and $20 for not-yet-members. (SPAAR members\, call us at 763-783-3553 to register.)&nbsp\;A light breakfast will be served.
LOCATION:Courtyards of Andover 13545 Martin Street NW Andover\, MN 55304
UID:e.380.159857
SEQUENCE:3
DTSTAMP:20260422T191728Z
URL:http://members.metronorthchamber.org/events/details/2016-legislative-reception-01-20-2016-159857
END:VEVENT

END:VCALENDAR
