BEGIN:VCALENDAR
VERSION:2.0
PRODID:-//ChamberMaster//Event Calendar 2.0//EN
METHOD:PUBLISH
X-PUBLISHED-TTL:P3D
REFRESH-INTERVAL:P3D
CALSCALE:GREGORIAN
BEGIN:VEVENT
DTSTART:20160223T170000Z
DTEND:20160223T200000Z
X-MICROSOFT-CDO-ALLDAYEVENT:FALSE
SUMMARY:2016 Job Fair
DESCRIPTION:Tuesday\, February 23rd - 11 am to 2 pm\n\n\n\nRegistration Fee only $50\n\nWe accept MasterCard and VISA. Table\, two chairs and lunch will be provided for two of your staff.\n\n\n\nEarly registration for the Anoka Technical College Job Fair is possible starting December 1st. To register contact Char Morgan\, Job Fair Planner located at MN WorkForce Center in Blaine at 763.279.4333.\n\n\n\nFor more details regarding the job fair please contact:\n\nLinda Tabor at 763.279.4332 or Linda.Tabor@state.mn.us\n\nArlys Hengemuhle at 763.783.4822 or Arlys.Hengemuhle@state.mn.us
X-ALT-DESC;FMTTYPE=text/html:<span style="font-size:18px">Tuesday\, February 23rd -&nbsp\;11 am to 2 pm</span><br />\n<br />\n<em>Registration Fee only $50</em><br />\nWe accept MasterCard and VISA. Table\, two chairs and lunch will be provided for two of your staff.<br />\n<br />\nEarly registration for the Anoka Technical College Job Fair is possible starting December 1st. To register contact Char Morgan\, Job Fair Planner located at MN WorkForce Center in Blaine at 763.279.4333.<br />\n<br />\nFor more details regarding the job fair please contact:<br />\nLinda Tabor at 763.279.4332 or Linda.Tabor@state.mn.us<br />\nArlys Hengemuhle at 763.783.4822 or Arlys.Hengemuhle@state.mn.us
LOCATION:1355 West Highway 10 Anoka\, MN 55303
UID:e.380.160916
SEQUENCE:3
DTSTAMP:20260422T175856Z
URL:http://members.metronorthchamber.org/events/details/2016-job-fair-02-23-2016-160916
END:VEVENT

END:VCALENDAR
