BEGIN:VCALENDAR
VERSION:2.0
PRODID:-//ChamberMaster//Event Calendar 2.0//EN
METHOD:PUBLISH
X-PUBLISHED-TTL:P3D
REFRESH-INTERVAL:P3D
CALSCALE:GREGORIAN
BEGIN:VEVENT
DTSTART:20151114T170000Z
DTEND:20151114T210000Z
X-MICROSOFT-CDO-ALLDAYEVENT:FALSE
SUMMARY:2015 Shop Local Business Expo
DESCRIPTION:Display/Sell your products and services to numerous attendees at Northtown Mall! Thousands of shoppers peruse Northtown every day\, especially in the holiday season. Use this event to generate new clients and business prospects and increase your business' visibility. Open to the general public\, and admission & parking are free!\nInterested in vendor opportunities? Download a copy of the vendor application form . \n\nDownload Microsoft Word application.\n\n\n\nReturn applications to adam@metronorthchamber.org\,  or mail to 9380 Central Ave. NE\, Suite 320\, Blaine\, MN 55434.\n\n\n\nHear what Bob 106.1 FM has to say about our upcoming expo!
X-ALT-DESC;FMTTYPE=text/html:<p style="line-height: 20.7999992370605px\;"><span style="color:#000000\;">Display/Sell your products and services to numerous attendees at Northtown Mall! Thousands of shoppers peruse Northtown&nbsp\;every day\, especially in the holiday season. Use this event to generate new clients and business prospects and increase your business&#39\; visibility. Open to the general public\, and admission &amp\; parking are free!</span></p>\n<span style="font-size:12px\;"><span style="font-family:arial\;"><span style="color:#000000\;"><span style="line-height: 20.7999992370605px\;">Interested in vendor opportunities? Download a copy of the</span></span><span style="line-height: 20.7999992370605px\; color: rgb(0\, 0\, 128)\;">&nbsp\;</span><u style="line-height: 20.7999992370605px\;"><a href="http://files.ctctcdn.com/f6fda6e7001/9d12c275-4044-4b96-9c62-f36d0bb56a5f.pdf"><span style="color:#0000FF\;">vendor application form</span></a><span style="color:#0000FF\;">&nbsp\;</span></u><span style="line-height: 20.7999992370605px\; color: rgb(0\, 0\, 128)\;">. </span><br />\n<span style="color:#000000\;"><span style="line-height: 20.7999992370605px\;">Download Microsoft Word</span></span><span style="line-height: 20.7999992370605px\; color: rgb(0\, 0\, 128)\;"> </span><span style="line-height: 20.7999992370605px\;"><u><a href="http://files.ctctcdn.com/f6fda6e7001/855fd8c8-29bb-43ce-b449-c7163da7a0d8.docx" target="_blank"><span style="color:#0000FF\;">application</span></a></u></span><span style="line-height: 20.7999992370605px\; color: rgb(0\, 0\, 128)\;">.</span><br />\n<br />\n<span style="color:#000000\;"><span style="line-height: 20.7999992370605px\;">Return applications to adam@metronorthchamber.org\, &nbsp\;or mail to 9380 Central Ave. NE\, Suite 320\, Blaine\, MN 55434.</span></span></span></span><br />\n<br />\n<span style="color:#000000\;">Hear what Bob 106.1 FM has to say about our</span> <u><a href="http://cloud.chambermaster.com/userfiles/UserFiles/chambers/380/File/MNCexpomix.mp3"><span style="color:#0000FF\;">upcoming expo</span></a></u><span style="color:#0000FF\;"><u>!</u>&nbsp\;</span>
LOCATION:Northtown Mall 398 Northtown Drive Blaine\, MN 55434
UID:e.380.159570
SEQUENCE:3
DTSTAMP:20260422T222219Z
URL:http://members.metronorthchamber.org/events/details/2015-shop-local-business-expo-11-14-2015-159570
END:VEVENT

END:VCALENDAR
