BEGIN:VCALENDAR
VERSION:2.0
PRODID:-//ChamberMaster//Event Calendar 2.0//EN
METHOD:PUBLISH
X-PUBLISHED-TTL:P3D
REFRESH-INTERVAL:P3D
CALSCALE:GREGORIAN
BEGIN:VEVENT
DTSTART:20150603T130000Z
DTEND:20150603T140000Z
X-MICROSOFT-CDO-ALLDAYEVENT:FALSE
SUMMARY:2015 Session Wrap Up
DESCRIPTION:Hear from a panel of north metro State Senators and Representatives on the highlights and lowlights of the 2015 Session.
X-ALT-DESC;FMTTYPE=text/html:Hear from a panel of north metro State Senators and Representatives on the highlights and lowlights of the 2015 Session.
LOCATION:Rasmussen College - Blaine Campus 3629 95th Avenue NE
UID:e.380.157328
SEQUENCE:3
DTSTAMP:20260423T071344Z
URL:http://members.metronorthchamber.org/events/details/2015-session-wrap-up-06-03-2015-157328
END:VEVENT

END:VCALENDAR
