BEGIN:VCALENDAR
VERSION:2.0
PRODID:-//ChamberMaster//Event Calendar 2.0//EN
METHOD:PUBLISH
X-PUBLISHED-TTL:P3D
REFRESH-INTERVAL:P3D
CALSCALE:GREGORIAN
BEGIN:VEVENT
DTSTART:20150217T224500Z
DTEND:20150218T003000Z
X-MICROSOFT-CDO-ALLDAYEVENT:FALSE
SUMMARY:2015 Olive Garden Wine Dinner: SOLD OUT
DESCRIPTION:The 2015 Olive Garden Wine Dinner is one of our traditional events that always sells out\, so don't delay in making your reservation. As always\, you will enjoy scrumptious paring of food and wine in an intimate setting.
X-ALT-DESC;FMTTYPE=text/html:The 2015 Olive Garden Wine Dinner is one of our traditional events that always sells out\, so don&#39\;t delay in making your reservation. As always\, you will enjoy scrumptious paring of food and wine in an intimate setting.
LOCATION:Olive Garden\, Coon Rapids 150 Coon Rapids Blvd.
UID:e.380.152165
SEQUENCE:3
DTSTAMP:20260423T130457Z
URL:http://members.metronorthchamber.org/events/details/2015-olive-garden-wine-dinner-sold-out-02-17-2015-152165
END:VEVENT

END:VCALENDAR
