BEGIN:VCALENDAR
VERSION:2.0
PRODID:-//ChamberMaster//Event Calendar 2.0//EN
METHOD:PUBLISH
X-PUBLISHED-TTL:P3D
REFRESH-INTERVAL:P3D
CALSCALE:GREGORIAN
BEGIN:VEVENT
DTSTART:20140128T223000Z
DTEND:20140129T000000Z
X-MICROSOFT-CDO-ALLDAYEVENT:FALSE
SUMMARY:2014 Legislative Reception
DESCRIPTION:This is an excellent opportunity to talk to legislators about local\, state and federal issues affecting businesses. We urge you to take advantage of this event and\n\ndevelop professional relationships with these leaders.\n\n\n\nThere is no investment for MetroNorth Chamber members and $20 for not-yet members to attend. RSVP required.\n\n\n\nHors d'oeuvres will be served.
X-ALT-DESC;FMTTYPE=text/html:<br />\nThis is an excellent opportunity to talk to legislators about local\, state and federal issues affecting businesses. We urge you to take advantage of this event and<br />\ndevelop professional relationships with these leaders.<br />\n<br />\nThere is no investment for MetroNorth Chamber members and $20 for not-yet members to attend. RSVP required.<br />\n<br />\nHors d&rsquo\;oeuvres will be served.
LOCATION:Courtyards of Andover by Unique Dining Experiences 13545 Martin St. Andover\, MN 55304
UID:e.380.150005
SEQUENCE:3
DTSTAMP:20260424T092432Z
URL:http://members.metronorthchamber.org/events/details/2014-legislative-reception-01-28-2014-150005
END:VEVENT

END:VCALENDAR
