BEGIN:VCALENDAR
VERSION:2.0
PRODID:-//ChamberMaster//Event Calendar 2.0//EN
METHOD:PUBLISH
X-PUBLISHED-TTL:P3D
REFRESH-INTERVAL:P3D
CALSCALE:GREGORIAN
BEGIN:VEVENT
DTSTART:20140206T173000Z
DTEND:20140206T200000Z
X-MICROSOFT-CDO-ALLDAYEVENT:FALSE
SUMMARY:2013 Excellence in Business Awards featuring Stewart Mills
DESCRIPTION:The MetroNorth Chamber of Commerce annually recognizes exemplary chamber businesses for their performance\, innovation and community commitment. Our 2013 Excellence in Business Award winners are:\n\n\n	\n		Micro Business - Designed 4 Freedom\, Tracy David\n	\n		Small Business - Edward Jones Circle Pines\n	\n		Business - Warners' Stellian Appliance\n	\n		Not-For-Profit - Impact Services\n\n		\n\n		\n\n		Recognition:\n\n		Applicants of the Excellence in Business Awards will be honored at a luncheon on February 6\, 2014. Winners will have a special video highlighting their business during the award ceremony.\n\n		\n\n		Keynote speaker is Stewart Mills\, 3rd generation owner of Mills Fleet Farm.
X-ALT-DESC;FMTTYPE=text/html:The MetroNorth Chamber of Commerce annually recognizes exemplary chamber businesses for their performance\, innovation and community commitment. Our 2013 Excellence in Business Award winners are:<br />\n<ul>\n	<li>\n		Micro Business - Designed 4 Freedom\, Tracy David</li>\n	<li>\n		Small Business - Edward Jones Circle Pines</li>\n	<li>\n		Business - Warners&#39\; Stellian Appliance</li>\n	<li>\n		Not-For-Profit - Impact Services<br />\n		<br />\n		<br />\n		Recognition:<br />\n		Applicants of the Excellence in Business Awards will be honored at a luncheon on February 6\, 2014. Winners will have a special video highlighting their business during the award ceremony.<br />\n		<br />\n		Keynote speaker is Stewart Mills\, 3rd generation owner of Mills Fleet Farm.<br />\n		<br />\n		<br />\n		&nbsp\;</li>\n</ul>\n
LOCATION:Majestic Oaks Golf Club 701 Bunker Lake Blvd. Ham Lake\, MN 55304
UID:e.380.150038
SEQUENCE:3
DTSTAMP:20260424T075812Z
URL:http://members.metronorthchamber.org/events/details/2013-excellence-in-business-awards-featuring-stewart-mills-02-06-2014-150038
END:VEVENT

END:VCALENDAR
