BEGIN:VCALENDAR
VERSION:2.0
PRODID:-//ChamberMaster//Event Calendar 2.0//EN
METHOD:PUBLISH
X-PUBLISHED-TTL:P3D
REFRESH-INTERVAL:P3D
CALSCALE:GREGORIAN
BEGIN:VEVENT
DTSTART:20131212T160000Z
DTEND:20131212T173000Z
X-MICROSOFT-CDO-ALLDAYEVENT:FALSE
SUMMARY:2013 Annual Meeting
DESCRIPTION:This year's Annual Meeting features Buffalo Wild Wings\, a Minnesota based company enjoying tremendous success. Learn more about their business before feasting on\, what else\, Buffalo Wild Wings food! $25 members/$175 table of 8.
X-ALT-DESC;FMTTYPE=text/html:This year&rsquo\;s Annual Meeting features Buffalo Wild Wings\, a Minnesota based company enjoying tremendous success. Learn more about their business before feasting on\, what else\, Buffalo Wild Wings food! $25 members/$175 table of 8.
LOCATION:Buffalo Wild Wings 3395 River Rapids Dr. Coon Rapids\, MN 55448
UID:e.380.149666
SEQUENCE:3
DTSTAMP:20260424T110935Z
URL:http://members.metronorthchamber.org/events/details/2013-annual-meeting-12-12-2013-149666
END:VEVENT

END:VCALENDAR
