BEGIN:VCALENDAR
VERSION:2.0
PRODID:-//ChamberMaster//Event Calendar 2.0//EN
METHOD:PUBLISH
X-PUBLISHED-TTL:P3D
REFRESH-INTERVAL:P3D
CALSCALE:GREGORIAN
BEGIN:VEVENT
DTSTART:20120713T220000Z
DTEND:20120714T100000Z
X-MICROSOFT-CDO-ALLDAYEVENT:FALSE
SUMMARY:2012 Relay For Life of Blaine
DESCRIPTION:No matter who you are\, there's a place for you at Relay. Each dollar you raise will help save lives. How far will you go to make a difference in the fight against cancer?\n\n	Your reasons for walking in the Relay For Life are as unique and special as the story that motivates you. This is your opportunity to not only honor cancer survivors and remember people we have lost\, but also to raise funds and awareness to help save lives. Because of your support\, we are creating a world where cancer can't claim another year of anyone's life. You are helping create a world with less cancer and more birthdays!
X-ALT-DESC;FMTTYPE=text/html:<p>\n	<span style="font-size: 11px"><span style="font-family: tahoma"><span id="page_body_container">No matter who you are\, there&#39\;s a place for you at Relay. Each dollar you raise will help save lives. How far will you go to make a difference in the fight against cancer?</span></span></span></p>\n<p>\n	<span style="font-size: 11px"><span style="font-family: tahoma"><span id="page_body_container">Your reasons for walking in the Relay For Life are as unique and special as the story that motivates you. This is your opportunity to not only honor cancer survivors and remember people we have lost\, but also to raise funds and awareness to help save lives. Because of your support\, we are creating a world where cancer can&#39\;t claim another year of anyone&#39\;s life. You are helping create a world with less cancer and more birthdays!</span></span></span></p>\n
LOCATION:Blaine High School Track 12555 University Ave NE
UID:e.380.145744
SEQUENCE:3
DTSTAMP:20260425T143339Z
URL:http://members.metronorthchamber.org/events/details/2012-relay-for-life-of-blaine-07-13-2012-145744
END:VEVENT

END:VCALENDAR
