BEGIN:VCALENDAR
VERSION:2.0
PRODID:-//ChamberMaster//Event Calendar 2.0//EN
METHOD:PUBLISH
X-PUBLISHED-TTL:P3D
REFRESH-INTERVAL:P3D
CALSCALE:GREGORIAN
BEGIN:VEVENT
DTSTART:20120118T224500Z
DTEND:20120119T004500Z
X-MICROSOFT-CDO-ALLDAYEVENT:FALSE
SUMMARY:2012 Legislative Reception
DESCRIPTION:2012 Legislative Reception \n\n	co-sponsored by the St. Paul Area Association of REALTORS  \n\n	Wednesday\, January 18\, 2012 @ 4:45 - 6:45 pm \n\n	Schwan Event Center \n\n	National Sports Center \n\n	1700 105th Ave. NE Blaine\, MN 55449 \n\n	This is an excellent opportunity to talk to legislators about  local\, state and federal issues affecting businesses. We urge you to take advantage of this event and develop professional relationships with these leaders. \n\n	There is no investment for MetroNorth members to attend and hors d'oeuvres will be served. \n\n	An RSVP is required \n\n	email your name & business/organization\n\n	to chamber@metronorthchamber.org\,\n\n	register online at www.metronorthchamber.org\,\n\n	or call 763.783.3553 for more information.
X-ALT-DESC;FMTTYPE=text/html:<p align="left">\n	<span style="color:#000080\;"><span style="font-size: 11px\;"><span style="font-family: tahoma\;"><b>2012 Legislative Reception </b></span></span></span></p>\n<p>\n	<span style="color:#000080\;"><span style="font-size: 11px\;"><span style="font-family: tahoma\;">co-sponsored by the St. Paul Area Association of REALTORS&reg\; </span></span></span></p>\n<p>\n	<span style="color:#000080\;"><span style="font-size: 11px\;"><span style="font-family: tahoma\;"><b>Wednesday\, January 18\, 2012 @ 4:45 - 6:45 pm </b></span></span></span></p>\n<p>\n	<span style="color:#000080\;"><span style="font-size: 11px\;"><span style="font-family: tahoma\;"><em><b>Schwan Event Center </b></em></span></span></span></p>\n<p>\n	<span style="color:#000080\;"><span style="font-size: 11px\;"><span style="font-family: tahoma\;"><em><b>National Sports Center </b></em></span></span></span></p>\n<p>\n	<span style="color:#000080\;"><span style="font-size: 11px\;"><span style="font-family: tahoma\;"><em><strong>1700 105th Ave. NE Blaine\, MN 55449 </strong></em></span></span></span></p>\n<p>\n	<span style="color:#000080\;"><span style="font-size: 11px\;"><span style="font-family: tahoma\;"><i>This is an excellent opportunity to talk to legislators about&nbsp\; local\, state and federal issues affecting businesses. </i><i>We urge you to take advantage of this event and develop professional relationships with these leaders. </i></span></span></span></p>\n<p>\n	<span style="color:#000080\;"><span style="font-size: 11px\;"><span style="font-family: tahoma\;">There is no investment for MetroNorth members to attend and hors d&rsquo\;oeuvres will be served. </span></span></span></p>\n<p>\n	<span style="color:#000080\;"><span style="font-size: 11px\;"><span style="font-family: tahoma\;"><b><i>An RSVP is required </i></b></span></span></span></p>\n<p>\n	<span style="color:#000080\;"><span style="font-size: 11px\;"><span style="font-family: tahoma\;">email your name &amp\; business/organization<br />\n	to chamber@metronorthchamber.org\,<br />\n	register online at www.metronorthchamber.org\,<br />\n	or call 763.783.3553 for more information. </span></span></span><font face="Arial\,Arial" size="3"><font face="Arial\,Arial" size="3"><span _fck_bookmark="1" style="display: none">&nbsp\;</span></font></font></p>\n
LOCATION:
UID:e.380.143015
SEQUENCE:3
DTSTAMP:20260426T015204Z
URL:http://members.metronorthchamber.org/events/details/2012-legislative-reception-01-18-2012-143015
END:VEVENT

END:VCALENDAR
