BEGIN:VCALENDAR
VERSION:2.0
PRODID:-//ChamberMaster//Event Calendar 2.0//EN
METHOD:PUBLISH
X-PUBLISHED-TTL:P3D
REFRESH-INTERVAL:P3D
CALSCALE:GREGORIAN
BEGIN:VEVENT
DTSTART;VALUE=DATE:20120623
DTEND;VALUE=DATE:20120624
TRANSP:TRANSPARENT
X-MICROSOFT-CDO-ALLDAYEVENT:TRUE
SUMMARY:2012 Healthy Living Race
DESCRIPTION:The Healthy Living Race is a fundraising event produced by Essentials of Life Chiropractic to promote the health and well-being of kids and families in our community. The activities include a 5K run/walk\, a 1-mile family dash\, and a community celebration. All ages and skill levels are welcome!\n\n\n\nThis year 100% of the proceeds will be donated to the Andover YMCA Y-Partners campaign. The Y-Partners helps with: access to child care\, after school enrichment\, youth sports\, teen activities\, day and overnight camping\, membership subsidies\, and scholarships. Your gift changes lives!
X-ALT-DESC;FMTTYPE=text/html:The Healthy Living Race is a fundraising event produced by Essentials of Life Chiropractic to promote the health and well-being of kids and families in our community. The activities include a 5K run/walk\, a 1-mile family dash\, and a community celebration. All ages and skill levels are welcome!<br />\n<br />\nThis year 100% of the proceeds will be donated to the Andover YMCA Y-Partners campaign. The Y-Partners helps with: access to child care\, after school enrichment\, youth sports\, teen activities\, day and overnight camping\, membership subsidies\, and scholarships. Your gift changes lives!
LOCATION:Andover High School - Rain or Shine 2115 Andover Blvd Andover\, MN 55304
UID:e.380.144074
SEQUENCE:3
DTSTAMP:20260425T161755Z
URL:http://members.metronorthchamber.org/events/details/2012-healthy-living-race-06-23-2012-144074
END:VEVENT

END:VCALENDAR
