BEGIN:VCALENDAR
VERSION:2.0
PRODID:-//ChamberMaster//Event Calendar 2.0//EN
METHOD:PUBLISH
X-PUBLISHED-TTL:P3D
REFRESH-INTERVAL:P3D
CALSCALE:GREGORIAN
BEGIN:VEVENT
DTSTART:20120109T220000Z
DTEND:20120109T230000Z
X-MICROSOFT-CDO-ALLDAYEVENT:FALSE
SUMMARY:2012 Golf Task Force
DESCRIPTION:
X-ALT-DESC;FMTTYPE=text/html:
LOCATION:MetroNorth
UID:e.380.143017
SEQUENCE:3
DTSTAMP:20260426T001339Z
URL:http://members.metronorthchamber.org/events/details/2012-golf-task-force-01-09-2012-143017
END:VEVENT

END:VCALENDAR
