BEGIN:VCALENDAR
VERSION:2.0
PRODID:-//ChamberMaster//Event Calendar 2.0//EN
METHOD:PUBLISH
X-PUBLISHED-TTL:P3D
REFRESH-INTERVAL:P3D
CALSCALE:GREGORIAN
BEGIN:VEVENT
DTSTART:20111112T170000Z
DTEND:20111112T210000Z
X-MICROSOFT-CDO-ALLDAYEVENT:FALSE
SUMMARY:2011 Northtown Business Expo
DESCRIPTION:Two Participation Options: \n\n	\n\n	FIRST OPTION:\n\n	BUSINESS EXHIBITOR\n\n	Display your products and services to\n\n	numerous attendees at Northtown Mall! Thousands of shoppers peruse Northtown every day\, especially in the holiday season. Use this event to generate new clients and business prospects and increase your business' visibility.\n\n	$95 for a 6 ft. table w/o electric \n\n	 \n  \n\n	Please note: All booth cancellations must be received 48 hours prior to the event for a refund. All no-shows will be billed. Substitutes are accepted.
X-ALT-DESC;FMTTYPE=text/html:<p style="text-align: center">\n	<span style="font-size: 14px"><span style="font-family: verdana"><strong>Two Participation Options: </strong></span><br />\n	<br />\n	<strong><span style="letter-spacing: -0.15pt"><span style="color: black">FIRST OPTION:</span></span></strong><br />\n	<strong><u><span style="letter-spacing: -0.15pt"><span style="color: black">BUSINESS EXHIBITOR</span></span></u></strong><br />\n	<span style="letter-spacing: -0.15pt"><span style="color: black">Display your products and services to<br />\n	numerous attendees at Northtown Mall! Thous</span></span><span style="letter-spacing: -0.3pt"><span style="color: black">ands of shoppers peruse Northtown every day\, especially in the holiday season. </span></span><span style="letter-spacing: -0.15pt"><span style="color: black">Use this event to generate new clients and business prospects and increase your business&rsquo\; visibility.</span></span><br />\n	<strong><span style="letter-spacing: -0.25pt"><span style="color: black">$95 </span></span></strong><span style="letter-spacing: -0.25pt"><span style="color: black">for a 6 ft. table </span></span><span style="letter-spacing: -0.15pt"><span style="color: black">w/o electric </span></span></span><br />\n	&nbsp\;</p>\n<span style="letter-spacing: -0.15pt"><span style="color: black"><span style="font-size: 14px"><span _fck_bookmark="1" style="display: none">&nbsp\;</span> </span></span></span>\n<div>\n	<span style="letter-spacing: -0.15pt"><span style="color: black"><span style="font-size: 14px"><span style="font-size: 14px"><span style="font-family: arial"><em>Please note: All booth cancellations must be received 48 hours prior to the event for a refund. All no-shows will be billed. Substitutes are accepted.</em></span></span></span></span></span></div>\n<p style="text-align: center">\n	<br />\n	<br />\n	&nbsp\;</p>\n
LOCATION:Northtown Mall Blaine
UID:e.380.142843
SEQUENCE:3
DTSTAMP:20260426T033359Z
URL:http://members.metronorthchamber.org/events/details/2011-northtown-business-expo-11-12-2011-142843
END:VEVENT

END:VCALENDAR
