BEGIN:VCALENDAR
VERSION:2.0
PRODID:-//ChamberMaster//Event Calendar 2.0//EN
METHOD:PUBLISH
X-PUBLISHED-TTL:P3D
REFRESH-INTERVAL:P3D
CALSCALE:GREGORIAN
BEGIN:VEVENT
DTSTART:20120210T180000Z
DTEND:20120210T200000Z
X-MICROSOFT-CDO-ALLDAYEVENT:FALSE
SUMMARY:2011 Excellence in Business Awards\, featuring Brad Rixmann\, CEO Pawn America
DESCRIPTION:The MetroNorth Chamber presents the 2011 Excellence in Business Awards\, featuring Brad Rixmann\, CEO Pawn America as the keynote speaker. Rixmann will give an engaging presentation on his business success story. Pawn America was recently recognized by Twin Cities Business Magazine as a top 2011 Small-Business Success Story Honoree for entrepreneurial insight and continued growth despite current economic conditions.\n\n	\n\n	 The MetroNorth Chamber of Commerce annually recognizes exemplary chamber businesses for their performance\, innovation and community commitment. Our 2011 Excellence in Business Awards will be given to 1 business from each of the following 3 categories:\n\n	\n\n	- Services (financial services\, business services\, consumer services\, education\, non profit and other organizations that primarily markets services)\n\n	- Products (manufacturers\, construction\, hospitality and other organizations that primarily market products)\n\n	- Micro Business (sole proprietors and/or businesses that employ fewer than 2 employees)\n\n	\n\n	\n\n	This will be an OUSTANDING EVENT!
X-ALT-DESC;FMTTYPE=text/html:<p>\n	<span style="font-size:10px\;"><span style="color: rgb(0\, 0\, 128)\;"><span style="font-family: tahoma\;">The MetroNorth Chamber presents the 2011 Excellence in Business Awards\, featuring&nbsp\;Brad Rixmann\, CEO Pawn America&nbsp\;as the keynote speaker. Rixmann will give an engaging presentation on his business success story. Pawn America was recently recognized by Twin Cities Business Magazine as a top 2011 Small-Business Success Story Honoree for entrepreneurial insight and continued growth despite current economic conditions.</span></span></span><br />\n	<br />\n	<span style="color: rgb(0\, 0\, 128)\;"> <span style="font-size: 10px"><span style="font-family: tahoma">The MetroNorth Chamber of Commerce annually recognizes exemplary chamber businesses for their </span></span><span style="font-size: 10px"><span style="font-family: tahoma">performance\, innovation and community commitment. Our 2011 Excellence in Business Awards </span></span><span style="font-size: 10px"><span style="font-family: tahoma">will be given to 1 business from each of the following 3 categories:</span></span><br />\n	<br />\n	<span style="font-size: 10px"><span style="font-family: tahoma">- <b>Services </b>(financial services\, business services\, consumer services\, education\, </span></span><span style="font-size: 10px"><span style="font-family: tahoma">non profit and other organizations that primarily markets services)</span></span><br />\n	<span style="font-size: 10px"><span style="font-family: tahoma">- <b>Products </b>(manufacturers\, construction\, hospitality and other organizations that primarily market products)</span></span><br />\n	<span style="font-size: 10px"><span style="font-family: tahoma">- <b>Micro Business </b>(sole proprietors and/or businesses that employ fewer than 2 employees)</span></span><br />\n	<br />\n	<br />\n	<span style="font-size: 10px"><span style="font-family: tahoma">This will be an OUSTANDING EVENT!</span></span></span></p>\n
LOCATION:Harvest Grill Bunker Hills Golf Course 12800 Bunker Prairie Road\, Coon Rapids
UID:e.380.143026
SEQUENCE:3
DTSTAMP:20260426T003313Z
URL:http://members.metronorthchamber.org/events/details/2011-excellence-in-business-awards-featuring-brad-rixmann-ceo-pawn-america-02-10-2012-143026
END:VEVENT

END:VCALENDAR
