BEGIN:VCALENDAR
VERSION:2.0
PRODID:-//ChamberMaster//Event Calendar 2.0//EN
METHOD:PUBLISH
X-PUBLISHED-TTL:P3D
REFRESH-INTERVAL:P3D
CALSCALE:GREGORIAN
BEGIN:VEVENT
DTSTART:20150228T150000Z
DTEND:20150228T210000Z
X-MICROSOFT-CDO-ALLDAYEVENT:FALSE
SUMMARY:17th Annual NorthMetro Community Home & Garden Show
DESCRIPTION:For more information about our Show\, please check our website   www.northmetrohomeandgarden.com   and apply to exhibit by filling out our online Registration Form.
X-ALT-DESC;FMTTYPE=text/html:<span style="font-size: medium\;"><span style="font-family: calibri\;">For more information about our Show\, please check our website &ndash\; </span></span><a href="http://www.northmetrohomeandgarden.com"><span style="color: windowtext\;"><span style="font-size: medium\;"><span style="font-family: calibri\;">www.northmetrohomeandgarden.com</span></span></span></a><span style="font-size: medium\;"><span style="font-family: calibri\;"> &ndash\; and apply to exhibit by filling out our online </span></span><a href="http://northmetrohomeandgarden.com/exhibitors/registration-form/"><span style="color: windowtext\;"><span style="font-size: medium\;"><span style="font-family: calibri\;">Registration Form</span></span></span></a><span style="font-size: medium\;"><span style="font-family: calibri\;">.</span></span>
LOCATION:NSC's Sport Expo Center in Blaine.
UID:e.380.152152
SEQUENCE:3
DTSTAMP:20260423T130824Z
URL:http://members.metronorthchamber.org/events/details/17th-annual-northmetro-community-home-garden-show-02-28-2015-152152
END:VEVENT

END:VCALENDAR
