BEGIN:VCALENDAR
VERSION:2.0
PRODID:-//ChamberMaster//Event Calendar 2.0//EN
METHOD:PUBLISH
X-PUBLISHED-TTL:P3D
REFRESH-INTERVAL:P3D
CALSCALE:GREGORIAN
BEGIN:VEVENT
DTSTART:20140125T150000Z
DTEND:20140125T210000Z
X-MICROSOFT-CDO-ALLDAYEVENT:FALSE
SUMMARY:16th annual North Metro Home & Garden Show
DESCRIPTION:The North Metro Community Home & Garden Show is an annual event sponsored by the Cities of Blaine\, Fridley and Mounds View. It is usually held the last Saturday in February\, but due to scheduling conflicts at the Sport Expo Center our next show will be held on Saturday\, January 25\, 2014. This change is in effect for only one year\; starting in 2015 we will revert to the last Saturday in February.\n\n	This popular community event is designed to benefit both the citizens and businesses who participate\, while helping us inspire\, encourage and support homeowners in our communities who want to improve their homes and yards. Attendees will be able to meet with and learn from experienced professionals who offer the latest product information. They will also have the opportunity to learn from experts at seminars scheduled throughout the Show hours.\n\n	We invite you to join us on Saturday\, January 25\, 2014\, for the 16th Annual North Metro Community Home and Garden Show\, the place to be for all your remodeling and landscaping needs!
X-ALT-DESC;FMTTYPE=text/html:<p>\n	The North Metro <em>Community</em> Home &amp\; Garden Show is an annual event sponsored by the Cities of Blaine\, Fridley and Mounds View. It is usually held the last Saturday in February\, but due to scheduling conflicts at the Sport Expo Center our next show will be held on <strong>Saturday\, January 25\, 2014</strong>. This change is in effect for only one year\; starting in 2015 we will revert to the last Saturday in February.</p>\n<p>\n	This popular community event is designed to benefit both the citizens and businesses who participate\, while helping us inspire\, encourage and support homeowners in our communities who want to improve their homes and yards. Attendees will be able to meet with and learn from experienced professionals who offer the latest product information. They will also have the opportunity to learn from experts at seminars scheduled throughout the Show hours.</p>\n<p>\n	We invite you to join us on&nbsp\;<strong>Saturday\, January 25\, 2014</strong>\, for the&nbsp\;<strong>16th Annual North Metro</strong> <em><strong>Community</strong></em><strong> Home and Garden Show</strong>\, the place to be for all your remodeling and landscaping needs!</p>\n
LOCATION:National Sports Center's Sport Expo Center 1740 105th Avenue NE Blaine\, MN 55449
UID:e.380.150029
SEQUENCE:3
DTSTAMP:20260424T093214Z
URL:http://members.metronorthchamber.org/events/details/16th-annual-north-metro-home-garden-show-01-25-2014-150029
END:VEVENT

END:VCALENDAR
