BEGIN:VCALENDAR
VERSION:2.0
PRODID:-//ChamberMaster//Event Calendar 2.0//EN
METHOD:PUBLISH
X-PUBLISHED-TTL:P3D
REFRESH-INTERVAL:P3D
CALSCALE:GREGORIAN
BEGIN:VEVENT
DTSTART;VALUE=DATE:20120421
DTEND;VALUE=DATE:20120422
TRANSP:TRANSPARENT
X-MICROSOFT-CDO-ALLDAYEVENT:TRUE
SUMMARY:12th Annual Bill Gallagher Memorial Memorial 5k Fun Run and Walk for Literacy
DESCRIPTION:The Anoka-Hennepin Educational Foundation\n\n	12th Annual Bill Gallagher Memorial 5K\n\n	Fun Run & Walk for Literacy\n\n	In memory of former principal and literacy advocate Bill Gallagher\n\n\n\n\nPlease come join your friends and neighbors in supporting our students! Register now for the Anoka-Hennepin Educational Foundation Annual Gallagher Memorial 5k Fun Run and Walk for Literacy. The event is Saturday\, April 21\, 2012 at the Coon Rapids Regional Dam Park (Coon Rapids side).  ALL proceeds go to our schools to support literacy.  Every participating student is eligible to enter a bicycle raffle and every participating student receives a free book.  Make your morning work-out (or casual morning walk) make a difference for a student   run or walk for Literacy! More details and online registration available on the website at www.anoka.k12.mn.us/ahef. Questions can be directed to the Educational Foundation Office at 763-506-1107.
X-ALT-DESC;FMTTYPE=text/html:<div>\n	&nbsp\;</div>\n<div style="text-align: center\;">\n	<span style="font-size:11px\;"><span style="font-family: tahoma\;"><strong>The Anoka-Hennepin Educational Foundation<br />\n	12th Annual Bill Gallagher Memorial 5K<br />\n	Fun Run &amp\; Walk for Literacy<br />\n	<em><span style="font-weight: normal\;">In memory of former principal and literacy advocate Bill Gallagher</span></em></strong></span></span></div>\n<br />\n<br />\n<span style="font-size:11px\;"><span style="font-family: tahoma\;">Please come join your friends and neighbors in supporting our students! Register now for the Anoka-Hennepin Educational Foundation Annual Gallagher Memorial 5k Fun Run and Walk for Literacy. The event is Saturday\, April 21\, 2012 at the Coon Rapids Regional Dam Park (Coon Rapids side).&nbsp\; ALL proceeds go to our schools to support literacy.&nbsp\; Every participating student is eligible to enter a bicycle raffle and every participating student receives a free book.&nbsp\; Make your morning work-out (or casual morning walk) make a difference for a student &ndash\; run or walk for Literacy! More details and online registration available on the website at <a href="http://www.anoka.k12.mn.us/ahef">www.anoka.k12.mn.us/ahef</a>. Questions can be directed to the Educational Foundation Office at 763-506-1107.</span></span><br />\n
LOCATION:Coon Rapids Dam Regional Park (Note: Parking is built into your Registration Fee for this event)
UID:e.380.143798
SEQUENCE:3
DTSTAMP:20260425T192740Z
URL:http://members.metronorthchamber.org/events/details/12th-annual-bill-gallagher-memorial-memorial-5k-fun-run-and-walk-for-literacy-04-21-2012-143798
END:VEVENT

END:VCALENDAR
