BEGIN:VCALENDAR
VERSION:2.0
PRODID:-//ChamberMaster//Event Calendar 2.0//EN
METHOD:PUBLISH
X-PUBLISHED-TTL:P3D
REFRESH-INTERVAL:P3D
CALSCALE:GREGORIAN
BEGIN:VEVENT
DTSTART:20180203T160000Z
DTEND:20180203T190000Z
X-MICROSOFT-CDO-ALLDAYEVENT:FALSE
SUMMARY:10th Annual Health and Wellness Fair
DESCRIPTION:The Health and Wellness Fair is an opportunity for organizations and individuals in the health and wellness field to share information about their organization and resources. Fair is a totally free event with speakers\, exhibitors\, activities\, free lunch\, facilitates a book swap\, and a drawing for donation items. Come and have fun at the 10th Annual Health and Wellness Fair
X-ALT-DESC;FMTTYPE=text/html:The Health and Wellness Fair is an opportunity for organizations and individuals in the health and wellness field to share information&nbsp\;about their organization and resources. Fair is a totally free event with speakers\, exhibitors\, activities\, free lunch\, facilitates&nbsp\;a book swap\, and a drawing for donation items. Come and have fun at the 10th&nbsp\;Annual&nbsp\;Health and Wellness Fair
LOCATION:Peace Lutheran Church in Coon Rapids 20 Northdale Boulevard Coon Rapids 55448
UID:e.380.179457
SEQUENCE:3
DTSTAMP:20260421T022737Z
URL:http://members.metronorthchamber.org/events/details/10th-annual-health-and-wellness-fair-179457
END:VEVENT

END:VCALENDAR
