BEGIN:VCALENDAR
VERSION:2.0
PRODID:-//ChamberMaster//Event Calendar 2.0//EN
METHOD:PUBLISH
X-PUBLISHED-TTL:P3D
REFRESH-INTERVAL:P3D
CALSCALE:GREGORIAN
BEGIN:VEVENT
DTSTART:20190111T123000Z
DTEND:20190112T000000Z
X-MICROSOFT-CDO-ALLDAYEVENT:FALSE
SUMMARY:100th Day Celebration
DESCRIPTION:Stop by to Celebrate our 100th Day in Business.\n\n $75 Wellness Basket Drawing
X-ALT-DESC;FMTTYPE=text/html:Stop by to Celebrate our 100th Day in Business.<br />\n&nbsp\;$75 Wellness Basket Drawing
LOCATION:Riverdale Commons 12475 Riverdale Blvd. NW\, Ste F Coon Rapids\, Minnesota 55433
UID:e.380.187877
SEQUENCE:3
DTSTAMP:20260420T103557Z
URL:http://members.metronorthchamber.org/events/details/100th-day-celebration-187877
END:VEVENT

END:VCALENDAR
